BEGIN:VCALENDAR
VERSION:2.0
PRODID:-//Sea Soaring Marine - ECPv6.15.13//NONSGML v1.0//EN
CALSCALE:GREGORIAN
METHOD:PUBLISH
X-WR-CALNAME:Sea Soaring Marine
X-ORIGINAL-URL:https://seasoaringmarine.com
X-WR-CALDESC:Events for Sea Soaring Marine
REFRESH-INTERVAL;VALUE=DURATION:PT1H
X-Robots-Tag:noindex
X-PUBLISHED-TTL:PT1H
BEGIN:VTIMEZONE
TZID:Australia/Perth
BEGIN:STANDARD
TZOFFSETFROM:+0800
TZOFFSETTO:+0800
TZNAME:AWST
DTSTART:20190101T000000
END:STANDARD
END:VTIMEZONE
BEGIN:VEVENT
DTSTART;TZID=Australia/Perth:20200301T083000
DTEND;TZID=Australia/Perth:20200301T150000
DTSTAMP:20260425T121553
CREATED:20180209T062946Z
LAST-MODIFIED:20200116T084026Z
UID:2067-1583051400-1583074800@seasoaringmarine.com
SUMMARY:Recreational Skipper's Ticket (RST) Course
DESCRIPTION:BUSSELTON RST COURSE SUNDAY MARCH 1 \n$340 includes comprehensive full day course with all theory/practical training (including local boating guide and other resources)\, assessments and use of a purpose-built training vessel. No need to study and learn the 120 page RST Workbook\, as Wayne does it all for you on the day. \n‘Much More Than a Skipper’s Ticket’. \nThere is no reason why you cannot achieve this licence with the quality training that Sea Soaring Marine provides. \nIf scheduled website dates are not suitable for you\, midweek courses are available on request throughout the southwest. Special arrangements can be made for school groups\, organisations or anyone requiring a one on one private course– please contact Wayne to discuss your needs. \n0409 549 356.
URL:https://seasoaringmarine.com/course/recreational-skippers-ticket-rst-course-51-2-2-2-2-2-2-4-2-2-2-2/
LOCATION:Busselton\, WA\, Australia\, Busselton\, WA\, Australia
CATEGORIES:Busselton
ATTACH;FMTTYPE=image/jpeg:https://seasoaringmarine.com/wp-content/uploads/2018/02/Rachel-Heath-Tobin-Rod-Dec-2019-1-scaled.jpg
ORGANIZER;CN="Sea Soaring Marine":MAILTO:wayne@seasoaringmarine.com
END:VEVENT
BEGIN:VEVENT
DTSTART;TZID=Australia/Perth:20200311T083000
DTEND;TZID=Australia/Perth:20200311T150000
DTSTAMP:20260425T121553
CREATED:20180209T062946Z
LAST-MODIFIED:20200116T084129Z
UID:2069-1583915400-1583938800@seasoaringmarine.com
SUMMARY:Recreational Skipper's Ticket (RST) Course
DESCRIPTION:BUSSELTON RST COURSE WEDNESDAY MARCH 11 \n$340 includes comprehensive full day course with all theory/practical training (including local boating guide and other resources)\, assessments and use of a purpose-built training vessel. No need to study and learn the 120 page RST Workbook\, as Wayne does it all for you on the day. \n‘Much More Than a Skipper’s Ticket’. \nThere is no reason why you cannot achieve this licence with the quality training that Sea Soaring Marine provides. \nIf scheduled website dates are not suitable for you\, midweek courses are available on request throughout the southwest. Special arrangements can be made for school groups\, organisations or anyone requiring a one on one private course– please contact Wayne to discuss your needs. \n0409 549 356.
URL:https://seasoaringmarine.com/course/recreational-skippers-ticket-rst-course-51-2-2-2-2-2-2-4-2-2-2-2-2/
LOCATION:Busselton\, WA\, Australia\, Busselton\, WA\, Australia
CATEGORIES:Busselton
ATTACH;FMTTYPE=image/jpeg:https://seasoaringmarine.com/wp-content/uploads/2018/02/Rachel-Heath-Tobin-Rod-Dec-2019-1-scaled.jpg
ORGANIZER;CN="Sea Soaring Marine":MAILTO:wayne@seasoaringmarine.com
END:VEVENT
BEGIN:VEVENT
DTSTART;TZID=Australia/Perth:20200320T083000
DTEND;TZID=Australia/Perth:20200320T150000
DTSTAMP:20260425T121553
CREATED:20180209T062946Z
LAST-MODIFIED:20200217T015800Z
UID:2103-1584693000-1584716400@seasoaringmarine.com
SUMMARY:Recreational Skipper's Ticket (RST) Course
DESCRIPTION:BUSSELTON RST COURSE FRIDAY MARCH 20 \n$340 includes comprehensive full day course with all theory/practical training (including local boating guide and other resources)\, assessments and use of a purpose-built training vessel. No need to study and learn the 120 page RST Workbook\, as Wayne does it all for you on the day. \n‘Much More Than a Skipper’s Ticket’. \nThere is no reason why you cannot achieve this licence with the quality training that Sea Soaring Marine provides. \nIf scheduled website dates are not suitable for you\, midweek courses are available on request throughout the southwest. Special arrangements can be made for school groups\, organisations or anyone requiring a one on one private course– please contact Wayne to discuss your needs. \n0409 549 356.
URL:https://seasoaringmarine.com/course/recreational-skippers-ticket-rst-course-51-2-2-2-2-2-2-4-2-2-2-2-2-3-2/
LOCATION:Busselton\, WA\, Australia\, Busselton\, WA\, Australia
CATEGORIES:Busselton
ATTACH;FMTTYPE=image/jpeg:https://seasoaringmarine.com/wp-content/uploads/2018/02/Rachel-Heath-Tobin-Rod-Dec-2019-1-scaled.jpg
ORGANIZER;CN="Sea Soaring Marine":MAILTO:wayne@seasoaringmarine.com
END:VEVENT
END:VCALENDAR