BEGIN:VCALENDAR
VERSION:2.0
PRODID:-//Sea Soaring Marine - ECPv6.15.13//NONSGML v1.0//EN
CALSCALE:GREGORIAN
METHOD:PUBLISH
X-ORIGINAL-URL:https://seasoaringmarine.com
X-WR-CALDESC:Events for Sea Soaring Marine
REFRESH-INTERVAL;VALUE=DURATION:PT1H
X-Robots-Tag:noindex
X-PUBLISHED-TTL:PT1H
BEGIN:VTIMEZONE
TZID:Australia/Perth
BEGIN:STANDARD
TZOFFSETFROM:+0800
TZOFFSETTO:+0800
TZNAME:AWST
DTSTART:20210101T000000
END:STANDARD
END:VTIMEZONE
BEGIN:VEVENT
DTSTART;TZID=Australia/Perth:20220304T090000
DTEND;TZID=Australia/Perth:20220304T160000
DTSTAMP:20260424T044024
CREATED:20210302T122253Z
LAST-MODIFIED:20220203T140204Z
UID:2352-1646384400-1646409600@seasoaringmarine.com
SUMMARY:LROCP Long Range Marine Radio Course- Fri\, March 4\, 2022
DESCRIPTION:MARINE RADIO COURSE – Long Range Operators Certificate of Proficiency\n\n\n\nThis is a commercial and recreational qualification which covers both VHF and MF/HF radios. This course includes all theory and practical training before sitting the theory and practical assessments.\n\n\n\nDate: Friday\, March 4\, 2022\nTime: 9am – 4pm (0900 – 1600hrs)\nCost: $390pp includes GST\, licence fee\, VHF Handbook\, summary notes\, all training\, exam\nLocation: Busselton Trade Training Centre\, at the rear of Busselton Senior High School. Enter Bovell Rd from Bussell Hwy\, then right into Simon St\, go to the end and look for truck and boat in compound on your left.\n\n\n\n\n\nContact us on 0409 549 356 or email wayne@seasoaringmarine.com
URL:https://seasoaringmarine.com/course/vhf-long-range-marine-radio-course-sat-april-10-2021/
LOCATION:Busselton Trade Trading Centre\, Busselton\, Western Australia\, 6280\, Australia
CATEGORIES:Busselton
ATTACH;FMTTYPE=image/jpeg:https://seasoaringmarine.com/wp-content/uploads/2017/09/facebook_event_805803886266544.jpg
ORGANIZER;CN="Sea Soaring Marine":MAILTO:wayne@seasoaringmarine.com
END:VEVENT
END:VCALENDAR